BEGIN:VCALENDAR
VERSION:2.0
PRODID:-//Becas Vallarta A.C. - ECPv6.15.20//NONSGML v1.0//EN
CALSCALE:GREGORIAN
METHOD:PUBLISH
X-WR-CALNAME:Becas Vallarta A.C.
X-ORIGINAL-URL:https://www.becasvallartaac.org
X-WR-CALDESC:Eventos para Becas Vallarta A.C.
REFRESH-INTERVAL;VALUE=DURATION:PT1H
X-Robots-Tag:noindex
X-PUBLISHED-TTL:PT1H
BEGIN:VTIMEZONE
TZID:America/Mexico_City
BEGIN:STANDARD
TZOFFSETFROM:-0600
TZOFFSETTO:-0600
TZNAME:CST
DTSTART:20230101T000000
END:STANDARD
END:VTIMEZONE
BEGIN:VEVENT
DTSTART;TZID=America/Mexico_City:20241116T100000
DTEND;TZID=America/Mexico_City:20241116T120000
DTSTAMP:20260424T021836
CREATED:20240823T050832Z
LAST-MODIFIED:20240823T050832Z
UID:3091-1731751200-1731758400@www.becasvallartaac.org
SUMMARY:Taller Vocacional para Becarios de preparatoria (Último Semestre)
DESCRIPTION:
URL:https://www.becasvallartaac.org/evento/taller-vocacional-para-becarios-de-preparatoria-ultimo-semestre/
LOCATION:Jalisco
CATEGORIES:Eventos
ORGANIZER;CN="Becas Vallarta A.C":MAILTO:contacto@becasvallartaac.org
END:VEVENT
END:VCALENDAR